BEGIN:VCALENDAR
VERSION:2.0
PRODID:-//Brian Testo Associates - ECPv6.15.14//NONSGML v1.0//EN
CALSCALE:GREGORIAN
METHOD:PUBLISH
X-WR-CALNAME:Brian Testo Associates
X-ORIGINAL-URL:https://www.btesto.com
X-WR-CALDESC:Events for Brian Testo Associates
REFRESH-INTERVAL;VALUE=DURATION:PT1H
X-Robots-Tag:noindex
X-PUBLISHED-TTL:PT1H
BEGIN:VTIMEZONE
TZID:America/Los_Angeles
BEGIN:DAYLIGHT
TZOFFSETFROM:-0800
TZOFFSETTO:-0700
TZNAME:PDT
DTSTART:20210314T100000
END:DAYLIGHT
BEGIN:STANDARD
TZOFFSETFROM:-0700
TZOFFSETTO:-0800
TZNAME:PST
DTSTART:20211107T090000
END:STANDARD
BEGIN:DAYLIGHT
TZOFFSETFROM:-0800
TZOFFSETTO:-0700
TZNAME:PDT
DTSTART:20220313T100000
END:DAYLIGHT
BEGIN:STANDARD
TZOFFSETFROM:-0700
TZOFFSETTO:-0800
TZNAME:PST
DTSTART:20221106T090000
END:STANDARD
BEGIN:DAYLIGHT
TZOFFSETFROM:-0800
TZOFFSETTO:-0700
TZNAME:PDT
DTSTART:20230312T100000
END:DAYLIGHT
BEGIN:STANDARD
TZOFFSETFROM:-0700
TZOFFSETTO:-0800
TZNAME:PST
DTSTART:20231105T090000
END:STANDARD
END:VTIMEZONE
BEGIN:VEVENT
DTSTART;TZID=America/Los_Angeles:20220525T070000
DTEND;TZID=America/Los_Angeles:20220526T070000
DTSTAMP:20260425T123550
CREATED:20220426T220038Z
LAST-MODIFIED:20220524T195124Z
UID:2148-1653462000-1653548400@www.btesto.com
SUMMARY:CLICK HERE - 2-Day Auction of HD Armored Vehicle Manufacturer
DESCRIPTION:Day 1 (5/25/2022)- Live Webcast: 10:00 AM\nLinks to Register:\nCIA WEBSITE: https://www.cia-auction.com/home/upcoming_auctions/ogara-armoring-day-1.html\nBIDSPOTTER: https://www.bidspotter.com/en-us/auction-catalogues/bscci/catalogue-id-bscci10474 \nDay 2 (5/26/2022) – Online Auction Only: Bidding Ends 5/26/2022 – 10:00 AM\nLinks to Register:\nCIA WEBSITE: https://www.cia-auction.com/home/upcoming_auctions/ogara-armoring-day-2.html\nBIDSPOTTER: https://www.bidspotter.com/en-us/auction-catalogues/bscci/catalogue-id-bscci10475 \nLocations:\nDay 1 Location: 9113 Le Saint Drive Fairfield\, OH 45014\nDay 2 Location: 4350 Port Union Road\, Suite 2 West Chester\, OH 45011 \nInspection:\nTuesday May 24th From 9:00 AM to 4:00 PM EST or by Appointment with Ryan Luggen ryan@cia-auction.com \nSummary: 2-Day Auction of HD Armored Vehicle Manufacturer Featuring CNC Lasers (2018)\, CNC Press Brakes to 400 Ton\, CNC HMC & VMC (2020)\, HD Fab Machinery\, (70+) Miller Welders\, Toolroom Machinery\, Paint Booths\, (20+) Gorbel Systems\, Car Lifts and Misc. Support Equipment Covering Over 200K Sq. Ft. Building \nFeaturing:\nCNC Lasers \n\n8\,000 Watt Cincinnati CL980 CNC Fiber Laser (New 2018) – Low Hours!\n3\,000 Watt LVD Impuls 3200 CNC CO2 Laser\n\nCNC Press Brake\n\n400 Ton x 16′ Accurpress 740016 3-Axis CNC Press Brake\n250 Ton x 14′ Accurpress 725014 2-Axis CNC Press Brake\n90 Ton x 10′ Strippit / LVD 90 BH 10 5-Axis CNC Press Brake\n\nCNC Machining Centers\n\nHurco BX60i CNC Vertical Machining Center (New 2020) – Low Hours!\nNorthwood Machine MC-158 3-Axis Gantry Style CNC VMC (New 2016) **\nHyundai Wia KH1000 CNC Horizontal Machining Center (New 12/2018) **\nKoma UNIKO Tool Presetter (New 2019)\nLarge QTY. Spare Tool Holders & Renishaw Probe Heads\n\nFabrication Machinery\n\n5′ x 5/16″ Akbend ASM-S 170-15/7.0J Plate Bending Roll\n10′ x 3/16″ Betenbender Hydraulic Shear\n\nWelding and Related\n\n2-Station Yaskawa Weld Cell (New 2020)\n(70+) Miller Welders – New as 2016\nLarge Quantity HD Welding Tables\, Clamps and Accessories\n\nToolroom Machinery\n\n(10+) SPX H-Frame Presses up to 100 Ton\nBand Saws\, Drills\, Sanders and More\n\nPaint & Cure Booths\n\n(4) Pass Thru Down Draft Paint and Cure Booths by Col-Met & GFS\n\nInspection Related Equipment\n\n(2) Faro Arm Type CMMs (New 2017/2019)\n\nHD Steel and Aluminum\n\nLarge Quantity of HD Thick Steel and Aluminum Plates of Various Sizes\n\nShop and Support\n\n(5+) Air Compressors by Atlas Copco\, Quincy and Others (New as 2012)\n(20+) Gorbel Jib Cranes and Overhead Free Standing Crane Systems\n2-Post and 4-Post Vehicle Lifts\nOver (250) Lots of Tools and Miscellaneous Support Equipment\n\n\n** MACHINES SUBJECT TO WITHDRAW FROM AUCTION BY OWNER **
URL:https://www.btesto.com/auction-liquidation/2-day-auction-of-hd-armored-vehicle-manufacturer/
LOCATION:Day 1 – 9113 Le Saint Drive Fairfield\, OH 45014\, 9113 Le Saint Drive\, Fairfield\, OH\, 45014\, United States
ORGANIZER;CN="Brian Testo Associates%2C LLC.":MAILTO:brian@btesto.com
END:VEVENT
END:VCALENDAR