BEGIN:VCALENDAR
VERSION:2.0
PRODID:-//Brian Testo Associates - ECPv6.15.14//NONSGML v1.0//EN
CALSCALE:GREGORIAN
METHOD:PUBLISH
X-WR-CALNAME:Brian Testo Associates
X-ORIGINAL-URL:https://www.btesto.com
X-WR-CALDESC:Events for Brian Testo Associates
REFRESH-INTERVAL;VALUE=DURATION:PT1H
X-Robots-Tag:noindex
X-PUBLISHED-TTL:PT1H
BEGIN:VTIMEZONE
TZID:America/Los_Angeles
BEGIN:DAYLIGHT
TZOFFSETFROM:-0800
TZOFFSETTO:-0700
TZNAME:PDT
DTSTART:20210314T100000
END:DAYLIGHT
BEGIN:STANDARD
TZOFFSETFROM:-0700
TZOFFSETTO:-0800
TZNAME:PST
DTSTART:20211107T090000
END:STANDARD
BEGIN:DAYLIGHT
TZOFFSETFROM:-0800
TZOFFSETTO:-0700
TZNAME:PDT
DTSTART:20220313T100000
END:DAYLIGHT
BEGIN:STANDARD
TZOFFSETFROM:-0700
TZOFFSETTO:-0800
TZNAME:PST
DTSTART:20221106T090000
END:STANDARD
BEGIN:DAYLIGHT
TZOFFSETFROM:-0800
TZOFFSETTO:-0700
TZNAME:PDT
DTSTART:20230312T100000
END:DAYLIGHT
BEGIN:STANDARD
TZOFFSETFROM:-0700
TZOFFSETTO:-0800
TZNAME:PST
DTSTART:20231105T090000
END:STANDARD
BEGIN:DAYLIGHT
TZOFFSETFROM:-0800
TZOFFSETTO:-0700
TZNAME:PDT
DTSTART:20240310T100000
END:DAYLIGHT
BEGIN:STANDARD
TZOFFSETFROM:-0700
TZOFFSETTO:-0800
TZNAME:PST
DTSTART:20241103T090000
END:STANDARD
END:VTIMEZONE
BEGIN:VEVENT
DTSTART;TZID=America/Los_Angeles:20230810T110000
DTEND;TZID=America/Los_Angeles:20230810T120000
DTSTAMP:20260423T104916
CREATED:20230731T174728Z
LAST-MODIFIED:20231004T182546Z
UID:2384-1691665200-1691668800@www.btesto.com
SUMMARY:Notice of Public Auction Certain Intellectual Property and other Intangible Assets of Hylete Inc. a Delaware Corporation
DESCRIPTION:By Order of Secured Creditor\nUCC 9-610 Foreclosure Auction\nThe assets to be sold consist of the Intellectual Property and other intangible assets used in the business of Hylete\, Inc. a Delaware Corporation\, including patents trademarks\, domain name\, website\, customer list (250\,000 active customers)\, brand\, goodwill and other intangibles
URL:https://www.btesto.com/auction-liquidation/notice-of-public-auction-certain-assets-of-hylete-inc-a-delaware-corporation/
LOCATION:Live Zoom Event\, United States
ORGANIZER;CN="Brian Testo Associates%2C LLC.":MAILTO:brian@btesto.com
END:VEVENT
BEGIN:VEVENT
DTSTART;TZID=America/Los_Angeles:20230224T110000
DTEND;TZID=America/Los_Angeles:20230224T140000
DTSTAMP:20260423T104916
CREATED:20230210T192132Z
LAST-MODIFIED:20230222T185648Z
UID:2343-1677236400-1677247200@www.btesto.com
SUMMARY:PUBLIC AUCTION VIA ZOOM - Cross Campus South Bay\, LLC and Cross Campus\, Inc.
DESCRIPTION:PUBLIC AUCTION VIA ZOOM DISPOSITION OF COLLATERAL UNDER ARTICLE 9 of Cross Campus South Bay\, LLC and Cross Campus\, Inc. \nTime: 11:00am PST\nInspection: By Appointment only\nLocation: Online via Zoom \nTo Register:  Contact Brian Testo at 818-312-1699 or brian@btesto.com for all registration details and zoom link 
URL:https://www.btesto.com/auction-liquidation/online-public-auction-disposition-of-collateral-under-article-9/
ORGANIZER;CN="Brian Testo Associates%2C LLC.":MAILTO:brian@btesto.com
END:VEVENT
BEGIN:VEVENT
DTSTART;TZID=America/Los_Angeles:20221108T103000
DTEND;TZID=America/Los_Angeles:20221207T143000
DTSTAMP:20260423T104916
CREATED:20221025T172117Z
LAST-MODIFIED:20221206T193122Z
UID:2226-1667903400-1670423400@www.btesto.com
SUMMARY:Public Auction Complete Food Production Facility
DESCRIPTION:By Order of Assignee for the Benefit of Creditors\nOnline Timed Auction of the Assets of \nCadence Gourmet\, LLC \nProducers of Frozen Beef\, Chicken and Seafood Products \nBidding: Open NOW on Bidspotter.com\nRegister to bid at: Click to Bid\nTimed Online Auction Closes: Lots start closing at 10:30am on December 6th\nOnsite Inspection: Monday\, December 5th 9am-3pm PST\nAssets Include: Machinery\, Equipment and $3 Million Dollars of Food Product Inventory\nAll equipment purchased new in 2017-2021.  \nAlso Includes Intellectual Property: Company Name\, DBA’s\, Phone Number\, (13) Trademarks\, Domain Names & Customer List (CONTACT AUCTIONEER FOR MORE INFORMATION) \nFor more info contact Brian Testo. Auctioneer at 818-312-1699
URL:https://www.btesto.com/auction-liquidation/click-here-public-auction-complete-food-production-facility/
LOCATION:155 Klug Circle\, Corona CA 92878\, 155 Klug Circle\, Corona\, CA\, 92878
ATTACH;FMTTYPE=image/jpeg:https://www.btesto.com/wp-content/uploads/2022/10/bid.jpg
ORGANIZER;CN="Brian Testo Associates%2C LLC.":MAILTO:brian@btesto.com
END:VEVENT
BEGIN:VEVENT
DTSTART;TZID=America/Los_Angeles:20220525T070000
DTEND;TZID=America/Los_Angeles:20220526T070000
DTSTAMP:20260423T104916
CREATED:20220426T220038Z
LAST-MODIFIED:20220524T195124Z
UID:2148-1653462000-1653548400@www.btesto.com
SUMMARY:CLICK HERE - 2-Day Auction of HD Armored Vehicle Manufacturer
DESCRIPTION:Day 1 (5/25/2022)- Live Webcast: 10:00 AM\nLinks to Register:\nCIA WEBSITE: https://www.cia-auction.com/home/upcoming_auctions/ogara-armoring-day-1.html\nBIDSPOTTER: https://www.bidspotter.com/en-us/auction-catalogues/bscci/catalogue-id-bscci10474 \nDay 2 (5/26/2022) – Online Auction Only: Bidding Ends 5/26/2022 – 10:00 AM\nLinks to Register:\nCIA WEBSITE: https://www.cia-auction.com/home/upcoming_auctions/ogara-armoring-day-2.html\nBIDSPOTTER: https://www.bidspotter.com/en-us/auction-catalogues/bscci/catalogue-id-bscci10475 \nLocations:\nDay 1 Location: 9113 Le Saint Drive Fairfield\, OH 45014\nDay 2 Location: 4350 Port Union Road\, Suite 2 West Chester\, OH 45011 \nInspection:\nTuesday May 24th From 9:00 AM to 4:00 PM EST or by Appointment with Ryan Luggen ryan@cia-auction.com \nSummary: 2-Day Auction of HD Armored Vehicle Manufacturer Featuring CNC Lasers (2018)\, CNC Press Brakes to 400 Ton\, CNC HMC & VMC (2020)\, HD Fab Machinery\, (70+) Miller Welders\, Toolroom Machinery\, Paint Booths\, (20+) Gorbel Systems\, Car Lifts and Misc. Support Equipment Covering Over 200K Sq. Ft. Building \nFeaturing:\nCNC Lasers \n\n8\,000 Watt Cincinnati CL980 CNC Fiber Laser (New 2018) – Low Hours!\n3\,000 Watt LVD Impuls 3200 CNC CO2 Laser\n\nCNC Press Brake\n\n400 Ton x 16′ Accurpress 740016 3-Axis CNC Press Brake\n250 Ton x 14′ Accurpress 725014 2-Axis CNC Press Brake\n90 Ton x 10′ Strippit / LVD 90 BH 10 5-Axis CNC Press Brake\n\nCNC Machining Centers\n\nHurco BX60i CNC Vertical Machining Center (New 2020) – Low Hours!\nNorthwood Machine MC-158 3-Axis Gantry Style CNC VMC (New 2016) **\nHyundai Wia KH1000 CNC Horizontal Machining Center (New 12/2018) **\nKoma UNIKO Tool Presetter (New 2019)\nLarge QTY. Spare Tool Holders & Renishaw Probe Heads\n\nFabrication Machinery\n\n5′ x 5/16″ Akbend ASM-S 170-15/7.0J Plate Bending Roll\n10′ x 3/16″ Betenbender Hydraulic Shear\n\nWelding and Related\n\n2-Station Yaskawa Weld Cell (New 2020)\n(70+) Miller Welders – New as 2016\nLarge Quantity HD Welding Tables\, Clamps and Accessories\n\nToolroom Machinery\n\n(10+) SPX H-Frame Presses up to 100 Ton\nBand Saws\, Drills\, Sanders and More\n\nPaint & Cure Booths\n\n(4) Pass Thru Down Draft Paint and Cure Booths by Col-Met & GFS\n\nInspection Related Equipment\n\n(2) Faro Arm Type CMMs (New 2017/2019)\n\nHD Steel and Aluminum\n\nLarge Quantity of HD Thick Steel and Aluminum Plates of Various Sizes\n\nShop and Support\n\n(5+) Air Compressors by Atlas Copco\, Quincy and Others (New as 2012)\n(20+) Gorbel Jib Cranes and Overhead Free Standing Crane Systems\n2-Post and 4-Post Vehicle Lifts\nOver (250) Lots of Tools and Miscellaneous Support Equipment\n\n\n** MACHINES SUBJECT TO WITHDRAW FROM AUCTION BY OWNER **
URL:https://www.btesto.com/auction-liquidation/2-day-auction-of-hd-armored-vehicle-manufacturer/
LOCATION:Day 1 – 9113 Le Saint Drive Fairfield\, OH 45014\, 9113 Le Saint Drive\, Fairfield\, OH\, 45014\, United States
ORGANIZER;CN="Brian Testo Associates%2C LLC.":MAILTO:brian@btesto.com
END:VEVENT
BEGIN:VEVENT
DTSTART;TZID=America/Los_Angeles:20220517T070000
DTEND;TZID=America/Los_Angeles:20220517T070000
DTSTAMP:20260423T104916
CREATED:20220513T015003Z
LAST-MODIFIED:20220514T032452Z
UID:2198-1652770800-1652770800@www.btesto.com
SUMMARY:CLICK HERE - Abandoned Personal Property Public Auctions #2
DESCRIPTION:Notice of Bulk Sale by Public Auction of the Abandoned Personal Property of Arclight Cinemas located in Santa Monica Place in Santa Monica California. \nLocation: 395 Santa Monica Place\,Space #330 Santa Monica California 90401 \nTime: 2:00pm \nNotes: Sale conducted Pursuant to California Civil Code 1993.07 as it relates to abandoned property. \nDescription: of assets to be sold all unattached furniture\, Fixtures and Equipment. \nALL ASSETS TO BE SOLD IN BULK \nFor a complete list and bidding requirements please contact the auctioneer.
URL:https://www.btesto.com/auction-liquidation/2-abandoned-personal-property-public-auctions-2/
LOCATION:395 Santa Monica Place\, Space #330 Santa Monica California 90401\, 395 Santa Monica Place\, Space #330\, Santa Monica\, CA\, United States
ORGANIZER;CN="Brian Testo Associates%2C LLC.":MAILTO:brian@btesto.com
END:VEVENT
BEGIN:VEVENT
DTSTART;TZID=America/Los_Angeles:20220517T040000
DTEND;TZID=America/Los_Angeles:20220517T040000
DTSTAMP:20260423T104916
CREATED:20220426T220526Z
LAST-MODIFIED:20220514T032524Z
UID:2153-1652760000-1652760000@www.btesto.com
SUMMARY:CLICK HERE - Abandoned Personal Property Public Auctions #1
DESCRIPTION:Notice of Bulk Sale by Public Auction of the Abandoned Personal Property of  Pacific Center Stadium 16 Theater at Lakewood California. \nLocation: 5200 Faculty AVE #2508 Lakewood CA. \nTime: 11:00am \nNotes: Sale conducted Pursuant to California Civil Code 1993.07 as it relates to abandoned property. \nDescription: of assets to be sold all unattached furniture\, Fixtures and Equipment. \nALL ASSETS TO BE SOLD IN BULK \nFor a complete list and bidding requirements please contact the auctioneer.
URL:https://www.btesto.com/auction-liquidation/2-abandoned-personal-property-public-auctions-1/
LOCATION:5200 Faculty AVE #2508 Lakewood CA\, 5200 Faculty AVE #2508\, Lakewood\, CA\, United States
ORGANIZER;CN="Brian Testo Associates%2C LLC.":MAILTO:brian@btesto.com
END:VEVENT
BEGIN:VEVENT
DTSTART;TZID=America/Los_Angeles:20220509T010000
DTEND;TZID=America/Los_Angeles:20220510T050000
DTSTAMP:20260423T104916
CREATED:20220316T220812Z
LAST-MODIFIED:20220510T072336Z
UID:2041-1652058000-1652158800@www.btesto.com
SUMMARY:CLICK HERE - Custom Cabinet Manufacturing Facility
DESCRIPTION:ONLINE ONLY\nCLICK HERE TO BID ONLINE\nHirsch Custom Cabinets\n16129 Wyandotte Street\nVan Nuys\, CA 91406 \nTerms:\nBuyers Premium: 18%\nDeposits required for out of country buyers.\nPayment Method: Wire transfers or Cashier Checks only. NO credit cards\, personal check or cash.\nPurchases must be paid in full within 24 hours\, no later than 3pm May 11th\nPickup: All purchases must be removed by 4pm Friday May 13th. \nPartial Equipment List \n\nStriebig Standard Mdl# Ch6014 Horizontal Wall Panel Saw\, Appox 20′\n2005 Biesse Rover 24 Cnc Router\, Table 50″ X 10′\, Sr#29858\nRitter 4′ Double-sided Horizontal Belt Sander\nDelta Horizontal Boring Machine\nJet Floor Model Drill Press\nMilwaukee Portable Chop Saw\nOmga Mdl#fd3000 Cnc Chopsaw W/ Fed Table\nPowermatic Shaper Mdl#60hh\, Serial#2365027\nJet Planner 15″\, Portable\, 220v\n2006 Toyota Tundra\, 200\,000 Miles Vin:5tbju321365459135\nStock Room: Hinges\, Supplies\, Dowels\, Sandpaper\, Fasteners\, Etc.\nShop: Hand Tools\, Sanders\, Drills\, Clamps & Grinders\n(3) Workbenches 5×10\nPorta Cable Portable Air Compressors\nDelta Double-end Grinder\nBlum Mini Drill\nShaper W/steff Mdl#2049 Powerfeed\nJet 18″ Bandsaw Mdl# Jwb518\n2004 Biesse Artechline Wide Belt Sander\, Mdl# Levia110\, Sr#37004\n(5) Senco Nailguns\nJet Shaper W/steff Mdl#2034 Powerfed\nDoral Portable Dust Collector\nRitter Counterbore Mdl# P200t\, Sr#3702\n1997 Scmi Selecta 12 Edgebander\nNissan Forklift 5000lb\n2014 Powermatic Table Saw Mdl#72a\, Sr# 007201\nHoffman Notching Machine SR 74988\nPacco Pinch Roll MDL 200 SR 1033\nDelta Shaper\nKaeser Air Compressor
URL:https://www.btesto.com/auction-liquidation/custom-cabinet-manufacturing-facility/
LOCATION:Custom Cabinet Manufacturing Facility\, Van Nuys\, CA\, United States
ORGANIZER;CN="Brian Testo Associates%2C LLC.":MAILTO:brian@btesto.com
END:VEVENT
END:VCALENDAR