BEGIN:VCALENDAR
VERSION:2.0
PRODID:-//Brian Testo Associates - ECPv6.15.14//NONSGML v1.0//EN
CALSCALE:GREGORIAN
METHOD:PUBLISH
X-ORIGINAL-URL:https://www.btesto.com
X-WR-CALDESC:Events for Brian Testo Associates
REFRESH-INTERVAL;VALUE=DURATION:PT1H
X-Robots-Tag:noindex
X-PUBLISHED-TTL:PT1H
BEGIN:VTIMEZONE
TZID:America/Los_Angeles
BEGIN:DAYLIGHT
TZOFFSETFROM:-0800
TZOFFSETTO:-0700
TZNAME:PDT
DTSTART:20230312T100000
END:DAYLIGHT
BEGIN:STANDARD
TZOFFSETFROM:-0700
TZOFFSETTO:-0800
TZNAME:PST
DTSTART:20231105T090000
END:STANDARD
BEGIN:DAYLIGHT
TZOFFSETFROM:-0800
TZOFFSETTO:-0700
TZNAME:PDT
DTSTART:20240310T100000
END:DAYLIGHT
BEGIN:STANDARD
TZOFFSETFROM:-0700
TZOFFSETTO:-0800
TZNAME:PST
DTSTART:20241103T090000
END:STANDARD
BEGIN:DAYLIGHT
TZOFFSETFROM:-0800
TZOFFSETTO:-0700
TZNAME:PDT
DTSTART:20250309T100000
END:DAYLIGHT
BEGIN:STANDARD
TZOFFSETFROM:-0700
TZOFFSETTO:-0800
TZNAME:PST
DTSTART:20251102T090000
END:STANDARD
END:VTIMEZONE
BEGIN:VEVENT
DTSTART;TZID=America/Los_Angeles:20240702T110000
DTEND;TZID=America/Los_Angeles:20240709T110000
DTSTAMP:20260423T170927
CREATED:20240605T052727Z
LAST-MODIFIED:20240605T052727Z
UID:2516-1719918000-1720522800@www.btesto.com
SUMMARY:Online Auction - General Research Laboratories Vitamin & Supplement Manufacturer
DESCRIPTION:Online auction Starts July 2nd and starts to close at 11am Tuesday July 9th \nInspection Monday July 8th 10 am to 3pm or by appointment \nAssets Located @ 17790 Tapo Street\, Simi Valley\, CA 93063 \n  \nCapsule and tablet equipment\, Bottle filling lines\, mixing equipment\, packaging equipment\, support equipment\, lab equipment and more! \n  \nTerms:\nBuyer’s Premium: 18.5%\nDeposits required for out of country buyers.\nPayment Method: Wire transfers or ACH payment only. NO credit cards\, cashier or personal checks or cash.\nPurchases must be paid in full within 24 hours\, by end of business day July 10th\nPickup: All purchases must be removed by 4pm Friday July 12th.
URL:https://www.btesto.com/auction-liquidation/online-auction-general-research-laboratories-vitamin-supplement-manufacturer/
END:VEVENT
END:VCALENDAR